BEGIN:VCALENDAR
VERSION:2.0
PRODID:icalendar-ruby
CALSCALE:GREGORIAN
BEGIN:VEVENT
DTSTAMP:20260420T083310Z
UID:e09fd61e-5029-46d9-84db-ba97a8ab8035
DTSTART:20260707T000000
DTEND:20260707T030000
DESCRIPTION:Have A Nice Life live in concert at White Oak Music Hall
LOCATION:White Oak Music Hall\, Houston\, TX\, USA
ORGANIZER:mailto:events@ampwrecked.com
SUMMARY:Have A Nice Life - Have A Nice Life at White Oak Music Hall
END:VEVENT
END:VCALENDAR
