BEGIN:VCALENDAR
VERSION:2.0
PRODID:icalendar-ruby
CALSCALE:GREGORIAN
BEGIN:VEVENT
DTSTAMP:20260420T082603Z
UID:aeec6bf9-78c9-40fd-b08f-fbc6628ceabb
DTSTART:20260627T000000
DTEND:20260627T030000
DESCRIPTION:Have A Nice Life live in concert at Paradise Rock Club
LOCATION:Paradise Rock Club\, Boston\, MA\, USA
ORGANIZER:mailto:events@ampwrecked.com
SUMMARY:Have A Nice Life - Have A Nice Life at Paradise Rock Club
END:VEVENT
END:VCALENDAR
