BEGIN:VCALENDAR
VERSION:2.0
PRODID:icalendar-ruby
CALSCALE:GREGORIAN
BEGIN:VEVENT
DTSTAMP:20260420T083116Z
UID:28b00793-0006-462d-a222-fbe7ef9c7088
DTSTART:20260621T000000
DTEND:20260621T030000
DESCRIPTION:The Ataris live in concert at Hellfest 2026
LOCATION:Hellfest 2026\, Clisson\, \, France
ORGANIZER:mailto:events@ampwrecked.com
SUMMARY:The Ataris - The Ataris at Hellfest 2026
END:VEVENT
END:VCALENDAR
