BEGIN:VCALENDAR
VERSION:2.0
PRODID:icalendar-ruby
CALSCALE:GREGORIAN
BEGIN:VEVENT
DTSTAMP:20260420T083307Z
UID:43e52e1f-189e-473d-84e0-f0bf95b81eb5
DTSTART:20260407T000000
DTEND:20260407T030000
DESCRIPTION:Negative Approach live in concert at College Street Music Hall
LOCATION:College Street Music Hall\, New Haven\, CT\, USA
ORGANIZER:mailto:events@ampwrecked.com
SUMMARY:Negative Approach - Negative Approach at College Street Music Hall
END:VEVENT
END:VCALENDAR
