BEGIN:VCALENDAR
VERSION:2.0
PRODID:icalendar-ruby
CALSCALE:GREGORIAN
BEGIN:VEVENT
DTSTAMP:20260420T083457Z
UID:da6e1ff9-1b6b-4a98-8962-23badc6154d8
DTSTART:20260406T000000
DTEND:20260406T030000
DESCRIPTION:Negative Approach live in concert at Empire Live
LOCATION:Empire Live\, Albany\, NY\, USA
ORGANIZER:mailto:events@ampwrecked.com
SUMMARY:Negative Approach - Negative Approach at Empire Live
END:VEVENT
END:VCALENDAR
