BEGIN:VCALENDAR
VERSION:2.0
PRODID:icalendar-ruby
CALSCALE:GREGORIAN
BEGIN:VEVENT
DTSTAMP:20260420T083223Z
UID:90c8c563-2857-4c6a-ba3a-da0bb162d10e
DTSTART:20260702T000000
DTEND:20260702T030000
DESCRIPTION:Simple Plan live in concert at Fifa Fan Festival
LOCATION:Fifa Fan Festival\, Vancouver\, BC\, USA
ORGANIZER:mailto:events@ampwrecked.com
SUMMARY:Simple Plan - Simple Plan at Fifa Fan Festival
END:VEVENT
END:VCALENDAR
