BEGIN:VCALENDAR
VERSION:2.0
PRODID:icalendar-ruby
CALSCALE:GREGORIAN
BEGIN:VEVENT
DTSTAMP:20260420T083457Z
UID:84ca4854-78e7-4c49-b5f0-820555a7d66b
DTSTART:20260406T000000
DTEND:20260406T030000
DESCRIPTION:saturdays at your place live in concert at Resonant Head
LOCATION:Resonant Head\, Oklahoma City\, OK\, USA
ORGANIZER:mailto:events@ampwrecked.com
SUMMARY:saturdays at your place - saturdays at your place at Resonant Head
END:VEVENT
END:VCALENDAR
