BEGIN:VCALENDAR
VERSION:2.0
PRODID:icalendar-ruby
CALSCALE:GREGORIAN
BEGIN:VEVENT
DTSTAMP:20260420T083255Z
UID:adaf1246-b94a-4dc7-9dbe-c2c65956534a
DTSTART:20260512T000000
DTEND:20260512T030000
DESCRIPTION:ExitWounds live in concert at Photo City Music Hall
LOCATION:Photo City Music Hall\, Rochester\, NY\, USA
ORGANIZER:mailto:events@ampwrecked.com
SUMMARY:ExitWounds - ExitWounds at Photo City Music Hall
END:VEVENT
END:VCALENDAR
