BEGIN:VCALENDAR
VERSION:2.0
PRODID:icalendar-ruby
CALSCALE:GREGORIAN
BEGIN:VEVENT
DTSTAMP:20260420T083222Z
UID:02203d3d-7b87-4c34-9086-7cb6dc80965d
DTSTART:20260410T000000
DTEND:20260410T030000
DESCRIPTION:Kublai Khan TX live in concert at Moody Amphitheater
LOCATION:Moody Amphitheater\, Austin\, TX\, USA
ORGANIZER:mailto:events@ampwrecked.com
SUMMARY:Kublai Khan TX - Kublai Khan TX at Moody Amphitheater
END:VEVENT
END:VCALENDAR
