BEGIN:VCALENDAR
VERSION:2.0
PRODID:icalendar-ruby
CALSCALE:GREGORIAN
BEGIN:VEVENT
DTSTAMP:20260420T083253Z
UID:267909f8-a6b3-4e2e-bd0d-881676ec9b8b
DTSTART:20260407T000000
DTEND:20260407T030000
DESCRIPTION:Kublai Khan TX live in concert at Revel Entertainment Center
LOCATION:Revel Entertainment Center\, Albuquerque\, NM\, USA
ORGANIZER:mailto:events@ampwrecked.com
SUMMARY:Kublai Khan TX - Kublai Khan TX at Revel Entertainment Center
END:VEVENT
END:VCALENDAR
