BEGIN:VCALENDAR
VERSION:2.0
PRODID:icalendar-ruby
CALSCALE:GREGORIAN
BEGIN:VEVENT
DTSTAMP:20260420T100124Z
UID:504f656d-9621-42e4-b745-810a85b151a7
DTSTART:20260409T000000
DTEND:20260409T030000
DESCRIPTION:Knuckle Puck live in concert at Theatre of Living Arts
LOCATION:Theatre of Living Arts\, Philadelphia\, PA\, USA
ORGANIZER:mailto:events@ampwrecked.com
SUMMARY:Knuckle Puck - Knuckle Puck at Theatre of Living Arts
END:VEVENT
END:VCALENDAR
