BEGIN:VCALENDAR
VERSION:2.0
PRODID:icalendar-ruby
CALSCALE:GREGORIAN
BEGIN:VEVENT
DTSTAMP:20260420T083415Z
UID:1f8fe0cf-fdf8-4bfd-bf10-bb56324dcbee
DTSTART:20260719T000000
DTEND:20260719T030000
DESCRIPTION:Hey Mercedes live in concert at Glasgow garage
LOCATION:Glasgow garage\, Glasgow\, \, United Kingdom
ORGANIZER:mailto:events@ampwrecked.com
SUMMARY:Hey Mercedes - Hey Mercedes at Glasgow garage
END:VEVENT
END:VCALENDAR
