BEGIN:VCALENDAR
VERSION:2.0
PRODID:icalendar-ruby
CALSCALE:GREGORIAN
BEGIN:VEVENT
DTSTAMP:20260420T083418Z
UID:f6066057-f3d4-44b9-a7ca-196369102d5c
DTSTART:20260407T000000
DTEND:20260407T030000
DESCRIPTION:From Ashes to New live in concert at Magazzini Generali
LOCATION:Magazzini Generali\, Milan\, \, Italy
ORGANIZER:mailto:events@ampwrecked.com
SUMMARY:From Ashes to New - From Ashes to New at Magazzini Generali
END:VEVENT
END:VCALENDAR
