BEGIN:VCALENDAR
VERSION:2.0
PRODID:icalendar-ruby
CALSCALE:GREGORIAN
BEGIN:VEVENT
DTSTAMP:20260420T083309Z
UID:ec1ed20b-8174-43d3-8ecb-440d48451d5f
DTSTART:20260509T000000
DTEND:20260509T030000
DESCRIPTION:Strife live in concert at Alchemy
LOCATION:Alchemy\, Providence\, RI\, USA
ORGANIZER:mailto:events@ampwrecked.com
SUMMARY:Strife - Strife at Alchemy
END:VEVENT
END:VCALENDAR
