BEGIN:VCALENDAR
VERSION:2.0
PRODID:icalendar-ruby
CALSCALE:GREGORIAN
BEGIN:VEVENT
DTSTAMP:20260420T083308Z
UID:25f0e824-def0-4ef9-bad9-d6503c0aa6d9
DTSTART:20260410T000000
DTEND:20260410T030000
DESCRIPTION:Carly Cosgrove live in concert at Reggies Rock Club
LOCATION:Reggies Rock Club\, Chicago\, IL\, USA
ORGANIZER:mailto:events@ampwrecked.com
SUMMARY:Carly Cosgrove - Carly Cosgrove at Reggies Rock Club
END:VEVENT
END:VCALENDAR
