BEGIN:VCALENDAR
VERSION:2.0
PRODID:icalendar-ruby
CALSCALE:GREGORIAN
BEGIN:VEVENT
DTSTAMP:20260420T083416Z
UID:68977049-c6dd-4f00-ad3d-a1a6ebedb950
DTSTART:20260408T000000
DTEND:20260408T030000
DESCRIPTION:Carly Cosgrove live in concert at 7th St Entry
LOCATION:7th St Entry\, Minneapolis\, MN\, USA
ORGANIZER:mailto:events@ampwrecked.com
SUMMARY:Carly Cosgrove - Carly Cosgrove at 7th St Entry
END:VEVENT
END:VCALENDAR
