BEGIN:VCALENDAR
VERSION:2.0
PRODID:icalendar-ruby
CALSCALE:GREGORIAN
BEGIN:VEVENT
DTSTAMP:20260420T083359Z
UID:fe7ac3c3-64fb-4883-9026-205b2ee80921
DTSTART:20260410T000000
DTEND:20260410T030000
DESCRIPTION:Bleed From Within live in concert at Saint Andrew's Hall
LOCATION:Saint Andrew's Hall\, Detroit\, MI\, USA
ORGANIZER:mailto:events@ampwrecked.com
SUMMARY:Bleed From Within - Bleed From Within at Saint Andrew's Hall
END:VEVENT
END:VCALENDAR
