BEGIN:VCALENDAR
VERSION:2.0
PRODID:icalendar-ruby
CALSCALE:GREGORIAN
BEGIN:VEVENT
DTSTAMP:20260420T083253Z
UID:43e04696-c87a-4fac-a33b-dc4386fe885d
DTSTART:20260410T000000
DTEND:20260410T030000
DESCRIPTION:The Maine live in concert at The Salt Shed
LOCATION:The Salt Shed\, Chicago\, IL\, USA
ORGANIZER:mailto:events@ampwrecked.com
SUMMARY:The Maine - The Maine at The Salt Shed
END:VEVENT
END:VCALENDAR
