BEGIN:VCALENDAR
VERSION:2.0
PRODID:icalendar-ruby
CALSCALE:GREGORIAN
BEGIN:VEVENT
DTSTAMP:20260420T083309Z
UID:0930ddb0-8323-45f2-9161-ef4371c35670
DTSTART:20260410T000000
DTEND:20260410T030000
DESCRIPTION:Grayscale live in concert at The Salt Shed
LOCATION:The Salt Shed\, Chicago\, IL\, USA
ORGANIZER:mailto:events@ampwrecked.com
SUMMARY:Grayscale - Grayscale at The Salt Shed
END:VEVENT
END:VCALENDAR
