BEGIN:VCALENDAR
VERSION:2.0
PRODID:icalendar-ruby
CALSCALE:GREGORIAN
BEGIN:VEVENT
DTSTAMP:20260420T083254Z
UID:e56a121a-abf9-4f70-8c90-26d9cae95e0f
DTSTART:20260410T000000
DTEND:20260410T030000
DESCRIPTION:Caskets live in concert at Channel 24
LOCATION:Channel 24\, Sacramento\, CA\, USA
ORGANIZER:mailto:events@ampwrecked.com
SUMMARY:Caskets - Caskets at Channel 24
END:VEVENT
END:VCALENDAR
