BEGIN:VCALENDAR
VERSION:2.0
PRODID:icalendar-ruby
CALSCALE:GREGORIAN
BEGIN:VEVENT
DTSTAMP:20260420T103127Z
UID:76ac9e32-78e5-4790-bc49-44c6932a337e
DTSTART:20260407T000000
DTEND:20260407T030000
DESCRIPTION:Caskets live in concert at The Showbox
LOCATION:The Showbox\, Seattle\, WA\, USA
ORGANIZER:mailto:events@ampwrecked.com
SUMMARY:Caskets - Caskets at The Showbox
END:VEVENT
END:VCALENDAR
