BEGIN:VCALENDAR
VERSION:2.0
PRODID:icalendar-ruby
CALSCALE:GREGORIAN
BEGIN:VEVENT
DTSTAMP:20260420T083308Z
UID:03376e7b-d1c4-403e-be9a-49b41b9db445
DTSTART:20260621T000000
DTEND:20260621T030000
DESCRIPTION:Gutrectomy live in concert at Backstage
LOCATION:Backstage\, München\, \, Germany
ORGANIZER:mailto:events@ampwrecked.com
SUMMARY:Gutrectomy - Gutrectomy at Backstage
END:VEVENT
END:VCALENDAR
