BEGIN:VCALENDAR
VERSION:2.0
PRODID:icalendar-ruby
CALSCALE:GREGORIAN
BEGIN:VEVENT
DTSTAMP:20260420T083415Z
UID:bc4838e8-8326-4eb6-bb7d-5dcb668d58bc
DTSTART:20260613T000000
DTEND:20260613T030000
DESCRIPTION:Escuela Grind live in concert at Rockhouse-Bar
LOCATION:Rockhouse-Bar\, Salzburg\, \, Austria
ORGANIZER:mailto:events@ampwrecked.com
SUMMARY:Escuela Grind - Escuela Grind at Rockhouse-Bar
END:VEVENT
END:VCALENDAR
