BEGIN:VCALENDAR
VERSION:2.0
PRODID:icalendar-ruby
CALSCALE:GREGORIAN
BEGIN:VEVENT
DTSTAMP:20260420T083459Z
UID:13ca4a2e-5824-4139-bce5-b07cbc604197
DTSTART:20260331T000000
DTEND:20260331T030000
DESCRIPTION:Against Everyone live in concert at Treefort Music Hall
LOCATION:Treefort Music Hall\, Boise\, ID\, USA
ORGANIZER:mailto:events@ampwrecked.com
SUMMARY:Against Everyone - Against Everyone at Treefort Music Hall
END:VEVENT
END:VCALENDAR
