BEGIN:VCALENDAR
VERSION:2.0
PRODID:icalendar-ruby
CALSCALE:GREGORIAN
BEGIN:VEVENT
DTSTAMP:20260420T123355Z
UID:2578a95a-c692-4a8a-b6ee-ad8fc0558a84
DTSTART:20260330T000000
DTEND:20260330T030000
DESCRIPTION:Against Everyone live in concert at Knitting Factory - Spokane
LOCATION:Knitting Factory - Spokane\, Spokane\, WA\, USA
ORGANIZER:mailto:events@ampwrecked.com
SUMMARY:Against Everyone - Against Everyone at Knitting Factory - Spokane
END:VEVENT
END:VCALENDAR
