BEGIN:VCALENDAR
VERSION:2.0
PRODID:icalendar-ruby
CALSCALE:GREGORIAN
BEGIN:VEVENT
DTSTAMP:20260420T083418Z
UID:1f311978-b321-40aa-bc34-0ed1d9f470ef
DTSTART:20260404T000000
DTEND:20260404T030000
DESCRIPTION:Microwave live in concert at Roseland Theater
LOCATION:Roseland Theater\, Portland\, OR\, USA
ORGANIZER:mailto:events@ampwrecked.com
SUMMARY:Microwave - Microwave at Roseland Theater
END:VEVENT
END:VCALENDAR
