BEGIN:VCALENDAR
VERSION:2.0
PRODID:icalendar-ruby
CALSCALE:GREGORIAN
BEGIN:VEVENT
DTSTAMP:20260420T083401Z
UID:82e00222-8408-42ff-b024-230aa792502b
DTSTART:20260330T000000
DTEND:20260330T030000
DESCRIPTION:Microwave live in concert at The UC Theatre
LOCATION:The UC Theatre\, Berkeley\, CA\, USA
ORGANIZER:mailto:events@ampwrecked.com
SUMMARY:Microwave - Microwave at The UC Theatre
END:VEVENT
END:VCALENDAR
