BEGIN:VCALENDAR
VERSION:2.0
PRODID:icalendar-ruby
CALSCALE:GREGORIAN
BEGIN:VEVENT
DTSTAMP:20260420T083252Z
UID:86f7ee5c-0363-4751-802e-17590761983d
DTSTART:20260406T000000
DTEND:20260406T030000
DESCRIPTION:Familiar Dark live in concert at Scandinavian Heavy Arts Tour
LOCATION:Scandinavian Heavy Arts Tour\, San Francisco\, CA\, USA
ORGANIZER:mailto:events@ampwrecked.com
SUMMARY:Familiar Dark - Familiar Dark at Scandinavian Heavy Arts Tour
END:VEVENT
END:VCALENDAR
