BEGIN:VCALENDAR
VERSION:2.0
PRODID:icalendar-ruby
CALSCALE:GREGORIAN
BEGIN:VEVENT
DTSTAMP:20260420T083254Z
UID:182ae12c-8e1e-418d-8728-978299d86b04
DTSTART:20260406T000000
DTEND:20260406T030000
DESCRIPTION:BOYS LIKE GIRLS live in concert at The Fillmore Detroit
LOCATION:The Fillmore Detroit\, Detroit\, MI\, USA
ORGANIZER:mailto:events@ampwrecked.com
SUMMARY:BOYS LIKE GIRLS - BOYS LIKE GIRLS at The Fillmore Detroit
END:VEVENT
END:VCALENDAR
