BEGIN:VCALENDAR
VERSION:2.0
PRODID:icalendar-ruby
CALSCALE:GREGORIAN
BEGIN:VEVENT
DTSTAMP:20260420T083418Z
UID:ec91f68e-f685-4f9a-9e90-c8be636f8c0d
DTSTART:20260329T000000
DTEND:20260329T030000
DESCRIPTION:BOYS LIKE GIRLS live in concert at Ryman Auditorium
LOCATION:Ryman Auditorium\, Nashville\, TN\, USA
ORGANIZER:mailto:events@ampwrecked.com
SUMMARY:BOYS LIKE GIRLS - BOYS LIKE GIRLS at Ryman Auditorium
END:VEVENT
END:VCALENDAR
