BEGIN:VCALENDAR
VERSION:2.0
PRODID:icalendar-ruby
CALSCALE:GREGORIAN
BEGIN:VEVENT
DTSTAMP:20260420T083222Z
UID:35ea17f3-ae5f-468c-b2ff-2555d26eda5c
DTSTART:20260406T000000
DTEND:20260406T030000
DESCRIPTION:Skating Polly live in concert at Shrine Social Club
LOCATION:Shrine Social Club\, Boise\, ID\, USA
ORGANIZER:mailto:events@ampwrecked.com
SUMMARY:Skating Polly - Skating Polly at Shrine Social Club
END:VEVENT
END:VCALENDAR
