BEGIN:VCALENDAR
VERSION:2.0
PRODID:icalendar-ruby
CALSCALE:GREGORIAN
BEGIN:VEVENT
DTSTAMP:20260420T083459Z
UID:b16dfd2f-20da-4922-8556-03b818161c6e
DTSTART:20260509T000000
DTEND:20260509T030000
DESCRIPTION:Fulci live in concert at Come and Take It Live
LOCATION:Come and Take It Live\, Austin\, TX\, USA
ORGANIZER:mailto:events@ampwrecked.com
SUMMARY:Fulci - Fulci at Come and Take It Live
END:VEVENT
END:VCALENDAR
