BEGIN:VCALENDAR
VERSION:2.0
PRODID:icalendar-ruby
CALSCALE:GREGORIAN
BEGIN:VEVENT
DTSTAMP:20260420T095508Z
UID:be9269e3-6732-4c4b-8bba-fb5b2d8cfd4a
DTSTART:20260330T000000
DTEND:20260330T030000
DESCRIPTION:she's green live in concert at Madrid Theatre
LOCATION:Madrid Theatre\, Kansas City\, MO\, USA
ORGANIZER:mailto:events@ampwrecked.com
SUMMARY:she's green - she's green at Madrid Theatre
END:VEVENT
END:VCALENDAR
