BEGIN:VCALENDAR
VERSION:2.0
PRODID:icalendar-ruby
CALSCALE:GREGORIAN
BEGIN:VEVENT
DTSTAMP:20260420T083221Z
UID:e576244e-c2a9-47b2-9fae-d4b2eec5dc3d
DTSTART:20260331T000000
DTEND:20260331T030000
DESCRIPTION:THIEV live in concert at College Street Music Hall
LOCATION:College Street Music Hall\, New Haven\, CT\, USA
ORGANIZER:mailto:events@ampwrecked.com
SUMMARY:THIEV - THIEV at College Street Music Hall
END:VEVENT
END:VCALENDAR
