BEGIN:VCALENDAR
VERSION:2.0
PRODID:icalendar-ruby
CALSCALE:GREGORIAN
BEGIN:VEVENT
DTSTAMP:20260420T083422Z
UID:e8de7383-6158-41e8-a978-c402c5dded43
DTSTART:20260329T000000
DTEND:20260329T030000
DESCRIPTION:THIEV live in concert at XL Live
LOCATION:XL Live\, Harrisburg\, PA\, USA
ORGANIZER:mailto:events@ampwrecked.com
SUMMARY:THIEV - THIEV at XL Live
END:VEVENT
END:VCALENDAR
