BEGIN:VCALENDAR
VERSION:2.0
PRODID:icalendar-ruby
CALSCALE:GREGORIAN
BEGIN:VEVENT
DTSTAMP:20260420T083419Z
UID:b184089c-bcf4-4888-8143-2b59d60925db
DTSTART:20260331T000000
DTEND:20260331T030000
DESCRIPTION:Currents live in concert at The Rave / Eagles Club
LOCATION:The Rave / Eagles Club\, Milwaukee\, WI\, USA
ORGANIZER:mailto:events@ampwrecked.com
SUMMARY:Currents - Currents at The Rave / Eagles Club
END:VEVENT
END:VCALENDAR
