BEGIN:VCALENDAR
VERSION:2.0
PRODID:icalendar-ruby
CALSCALE:GREGORIAN
BEGIN:VEVENT
DTSTAMP:20260420T083401Z
UID:8dde62cd-40e3-40ea-b547-b18f9d1666ca
DTSTART:20260707T000000
DTEND:20260707T030000
DESCRIPTION:Devourment live in concert at Bogart's
LOCATION:Bogart's\, Cincinnati\, OH\, USA
ORGANIZER:mailto:events@ampwrecked.com
SUMMARY:Devourment - Devourment at Bogart's
END:VEVENT
END:VCALENDAR
