BEGIN:VCALENDAR
VERSION:2.0
PRODID:icalendar-ruby
CALSCALE:GREGORIAN
BEGIN:VEVENT
DTSTAMP:20260420T083307Z
UID:c061c8b8-7a26-47ee-80d6-e1340936fc1d
DTSTART:20260705T000000
DTEND:20260705T030000
DESCRIPTION:Devourment live in concert at Palladium
LOCATION:Palladium\, Worcester\, MA\, USA
ORGANIZER:mailto:events@ampwrecked.com
SUMMARY:Devourment - Devourment at Palladium
END:VEVENT
END:VCALENDAR
