BEGIN:VCALENDAR
VERSION:2.0
PRODID:icalendar-ruby
CALSCALE:GREGORIAN
BEGIN:VEVENT
DTSTAMP:20260420T083420Z
UID:c55f91ca-9fbb-4dd3-9c84-b9569c95c14d
DTSTART:20260703T000000
DTEND:20260703T030000
DESCRIPTION:Devourment live in concert at Elevation 27
LOCATION:Elevation 27\, Virginia Beach\, VA\, USA
ORGANIZER:mailto:events@ampwrecked.com
SUMMARY:Devourment - Devourment at Elevation 27
END:VEVENT
END:VCALENDAR
