BEGIN:VCALENDAR
VERSION:2.0
PRODID:icalendar-ruby
CALSCALE:GREGORIAN
BEGIN:VEVENT
DTSTAMP:20260420T123310Z
UID:bf5aab38-2729-497a-b666-b04d13190cff
DTSTART:20260702T000000
DTEND:20260702T030000
DESCRIPTION:Devourment live in concert at Reverb
LOCATION:Reverb\, Reading\, PA\, USA
ORGANIZER:mailto:events@ampwrecked.com
SUMMARY:Devourment - Devourment at Reverb
END:VEVENT
END:VCALENDAR
