BEGIN:VCALENDAR
VERSION:2.0
PRODID:icalendar-ruby
CALSCALE:GREGORIAN
BEGIN:VEVENT
DTSTAMP:20260420T083401Z
UID:e1ebfce4-84d8-425e-a272-5718d4876ee1
DTSTART:20260505T000000
DTEND:20260505T030000
DESCRIPTION:Motionless In White live in concert at PPG Paints Arena
LOCATION:PPG Paints Arena\, Pittsburgh\, PA\, USA
ORGANIZER:mailto:events@ampwrecked.com
SUMMARY:Motionless In White - Motionless In White at PPG Paints Arena
END:VEVENT
END:VCALENDAR
