BEGIN:VCALENDAR
VERSION:2.0
PRODID:icalendar-ruby
CALSCALE:GREGORIAN
BEGIN:VEVENT
DTSTAMP:20260420T083400Z
UID:d59ee4ab-c320-4358-9a91-84f8120e0688
DTSTART:20260406T000000
DTEND:20260406T030000
DESCRIPTION:Downswing live in concert at Zero 9:36\, Elijah & Downswing
LOCATION:Zero 9:36\, Elijah & Downswing\, Oklahoma City\, OK\, USA
ORGANIZER:mailto:events@ampwrecked.com
SUMMARY:Downswing - Downswing at Zero 9:36\, Elijah & Downswing
END:VEVENT
END:VCALENDAR
