BEGIN:VCALENDAR
VERSION:2.0
PRODID:icalendar-ruby
CALSCALE:GREGORIAN
BEGIN:VEVENT
DTSTAMP:20260420T083359Z
UID:c83f186d-243f-4236-ad6a-11022fcee15f
DTSTART:20260405T000000
DTEND:20260405T030000
DESCRIPTION:Downswing live in concert at Zero 9:36\, Elijah & Downswing
LOCATION:Zero 9:36\, Elijah & Downswing\, Little Rock\, AR\, USA
ORGANIZER:mailto:events@ampwrecked.com
SUMMARY:Downswing - Downswing at Zero 9:36\, Elijah & Downswing
END:VEVENT
END:VCALENDAR
