BEGIN:VCALENDAR
VERSION:2.0
PRODID:icalendar-ruby
CALSCALE:GREGORIAN
BEGIN:VEVENT
DTSTAMP:20260420T083401Z
UID:4bdacc0b-269a-4876-a4fb-d45b838706d2
DTSTART:20260404T000000
DTEND:20260404T030000
DESCRIPTION:Downswing live in concert at Zero 9:36\, Elijah & Downswing
LOCATION:Zero 9:36\, Elijah & Downswing\, Springfield\, MO\, USA
ORGANIZER:mailto:events@ampwrecked.com
SUMMARY:Downswing - Downswing at Zero 9:36\, Elijah & Downswing
END:VEVENT
END:VCALENDAR
