BEGIN:VCALENDAR
VERSION:2.0
PRODID:icalendar-ruby
CALSCALE:GREGORIAN
BEGIN:VEVENT
DTSTAMP:20260420T083221Z
UID:4c5db6d2-8a2b-4d0f-96e5-c7d6bf1194ab
DTSTART:20261008T000000
DTEND:20261008T030000
DESCRIPTION:Vildhjarta live in concert at O2 Academy Islington
LOCATION:O2 Academy Islington\, London\, \, United Kingdom
ORGANIZER:mailto:events@ampwrecked.com
SUMMARY:Vildhjarta - Vildhjarta at O2 Academy Islington
END:VEVENT
END:VCALENDAR
