BEGIN:VCALENDAR
VERSION:2.0
PRODID:icalendar-ruby
CALSCALE:GREGORIAN
BEGIN:VEVENT
DTSTAMP:20260420T083401Z
UID:e364af1e-feb0-4c1a-9fa9-b1dbe5e03623
DTSTART:20261006T000000
DTEND:20261006T030000
DESCRIPTION:Vildhjarta live in concert at Petit Bain
LOCATION:Petit Bain\, Paris\, \, France
ORGANIZER:mailto:events@ampwrecked.com
SUMMARY:Vildhjarta - Vildhjarta at Petit Bain
END:VEVENT
END:VCALENDAR
