BEGIN:VCALENDAR
VERSION:2.0
PRODID:icalendar-ruby
CALSCALE:GREGORIAN
BEGIN:VEVENT
DTSTAMP:20260420T083309Z
UID:4189779e-f559-4879-95ce-8109856cfe7c
DTSTART:20261002T000000
DTEND:20261002T030000
DESCRIPTION:Vildhjarta live in concert at Slaughter Club
LOCATION:Slaughter Club\, Paderno Dugnano\, \, Italy
ORGANIZER:mailto:events@ampwrecked.com
SUMMARY:Vildhjarta - Vildhjarta at Slaughter Club
END:VEVENT
END:VCALENDAR
