BEGIN:VCALENDAR
VERSION:2.0
PRODID:icalendar-ruby
CALSCALE:GREGORIAN
BEGIN:VEVENT
DTSTAMP:20260420T083307Z
UID:a9ba9dc3-6e4c-4ea6-8aab-9ea2f6a2e125
DTSTART:20260928T000000
DTEND:20260928T030000
DESCRIPTION:Vildhjarta live in concert at Rock Café
LOCATION:Rock Café\, Praha 1\, \, Czech Republic
ORGANIZER:mailto:events@ampwrecked.com
SUMMARY:Vildhjarta - Vildhjarta at Rock Café
END:VEVENT
END:VCALENDAR
