BEGIN:VCALENDAR
VERSION:2.0
PRODID:icalendar-ruby
CALSCALE:GREGORIAN
BEGIN:VEVENT
DTSTAMP:20260420T083456Z
UID:9d916c76-d576-4941-bbdc-dea7e156f9a4
DTSTART:20260505T000000
DTEND:20260505T030000
DESCRIPTION:Born Of Osiris live in concert at The Masquerade
LOCATION:The Masquerade\, Atlanta\, GA\, USA
ORGANIZER:mailto:events@ampwrecked.com
SUMMARY:Born Of Osiris - Born Of Osiris at The Masquerade
END:VEVENT
END:VCALENDAR
