BEGIN:VCALENDAR
VERSION:2.0
PRODID:icalendar-ruby
CALSCALE:GREGORIAN
BEGIN:VEVENT
DTSTAMP:20260420T104317Z
UID:d08fd6dd-e8e1-4838-a0e0-7c5ad4659d0d
DTSTART:20260504T000000
DTEND:20260504T030000
DESCRIPTION:Born Of Osiris live in concert at The Pyrle
LOCATION:The Pyrle\, Greensboro\, NC\, USA
ORGANIZER:mailto:events@ampwrecked.com
SUMMARY:Born Of Osiris - Born Of Osiris at The Pyrle
END:VEVENT
END:VCALENDAR
